Workbook

Sheet How to Use
B5: Aztech IT - Cyber Security Assessment Heatmap
B7: How to use this form:
B9: On the Answers page, there are multiple questions covering different areas. Simply use the drop-down option and choose whether the answer is a Yes, No, or Partial. This will assign the relevant amount of weighted points to each answer, and then total up a percentage
B18: The percentage points for each section are then converted to a result between 1 and 5
B19: On the Heatmap page, the results from the answers are populated in the 'Probability' column of the table - do not amend this column manually. Using a range of 1 through 5 rate each section in the impact that a failure would have, with 1 being little or no impact, and 5 being a major impact
B30: The Results
B31: The results from each column are then plotted on the heatmap to help identify areas of concern.

Sheet Answers
A1: Category | B1: Section | C1: Question | D1: Answer | E1: Points
A2: Identify | B2: Users | C2: Do you have a robust password policy to ensure all users have strong passwords? | E2: =IF(D2="Yes", 10, IF(D2="No", -5, IF(D2="Partial", 5))) -> FALSE
A3: Identify | B3: Users | C3: Is rule of 'least privilege' used | E3: =IF(D3="Yes", 10, IF(D3="No", -5, IF(D3="Partial", 5))) -> FALSE
A4: Identify | B4: Users | C4: Are administration accounts restricted and not used for day-to-day operations | E4: =IF(D4="Yes", 10, IF(D4="No", -5, IF(D4="Partial", 5))) -> FALSE
A5: Identify | B5: Users | C5: Are leaver accounts disabled immediately, and review regular | E5: =IF(D5="Yes", 10, IF(D5="No", -5, IF(D5="Partial", 5))) -> FALSE
A6: Protect | B6: Users | C6: Is cyber security user awareness training available for staff? | E6: =IF(D6="Yes", 10, IF(D6="No", -5, IF(D6="Partial", 5))) -> FALSE
D7: Total | E7: =SUM(AnsUsers[Points]) -> 0
D8: Available | E8: 50
D9: Percent | E9: =SUM(E7/E8)*100 -> 0
A11: Category | B11: Section | C11: Question | D11: Answer | E11: Points
A12: Protect | B12: Device Compliance | C12: Are all workstations/laptop/server devices using supported Operating systems (e.g. Windows 10 +) | E12: =IF(D12="Yes", 10, IF(D12="No", -5, IF(D12="Partial", 5))) -> FALSE
A13: Protect | B13: Device Compliance | C13: Is there suitable patch maintenance in place which ensures that security patches are applied within 14 days of release | E13: =IF(D13="Yes", 10, IF(D13="No", -5, IF(D13="Partial", 5))) -> FALSE
A14: Protect | B14: Device Compliance | C14: Is old/unnecessary software removed from all devices | E14: =IF(D14="Yes", 10, IF(D14="No", -5, IF(D14="Partial", 5))) -> FALSE
A15: Detect | B15: Device Compliance | C15: Is there alerting and monitoring in place to alert if a device has its Firewall and Anti Virus switched off | E15: =IF(D15="Yes", 10, IF(D15="No", -5, IF(D15="Partial", 5))) -> FALSE
D16: Total | E16: =SUM(AnsDeviceComp[Points]) -> 0
D17: Available | E17: 40
D18: Percent | E18: =SUM(E16/E17)*100 -> 0
A20: Category | B20: Section | C20: Question | D20: Answer | E20: Points
A21: Protect | B21: Endpoint Protection | C21: Is your Anti-Virus solution NextGen AV (i.e. Endpoint Detection Response) | E21: =IF(D21="Yes", 10, IF(D21="No", -5, IF(D21="Partial", 5))) -> FALSE
A22: Protect | B22: Endpoint Protection | C22: Is there an Anti-Virus product deployed to all endpoints? | E22: =IF(D22="Yes", 10, IF(D22="No", -5, IF(D22="Partial", 5))) -> FALSE
A23: Protect | B23: Endpoint Protection | C23: Are signatures updated on a regular basis | E23: =IF(D23="Yes", 10, IF(D23="No", -5, IF(D23="Partial", 5))) -> FALSE
A24: Protect | B24: Endpoint Protection | C24: Is on-demand scanning enabled | E24: =IF(D24="Yes", 10, IF(D24="No", -5, IF(D24="Partial", 5))) -> FALSE
D25: Total | E25: =SUM(AnsEdnpoint[Points]) -> 0
D26: Available | E26: 40
D27: Percent | E27: =SUM(E25/E26)*100 -> 0
A29: Category | B29: Section | C29: Question | D29: Answer | E29: Points
A30: Protect | B30: Email Security | C30: Is there a suitable email security product in place (not native Microsoft 365 or Gmail)? | E30: =IF(D30="Yes", 10, IF(D30="No", -5, IF(D30="Partial", 5))) -> FALSE
A31: Protect | B31: Email Security | C31: Are attachments/hyperlinks scanned? | E31: =IF(D31="Yes", 10, IF(D31="No", -5, IF(D31="Partial", 5))) -> FALSE
A32: Protect | B32: Email Security | C32: Are DKIM Records setup correctly | E32: =IF(D32="Yes", 10, IF(D32="No", -5, IF(D32="Partial", 5))) -> FALSE
A33: Protect | B33: Email Security | C33: Is DMARC Used | E33: =IF(D33="Yes", 10, IF(D33="No", -5, IF(D33="Partial", 5))) -> FALSE
D34: Total | E34: =SUM(AnsEmail[Points]) -> 0
D35: Available | E35: 40
D36: Percent | E36: =SUM(E34/E35)*100 -> 0
A38: Category | B38: Section | C38: Question | D38: Answer | E38: Points
A39: Protect | B39: Data Protection | C39: Are data leak prevention policies applied to corporate data? | E39: =IF(D39="Yes", 10, IF(D39="No", -5, IF(D39="Partial", 5))) -> FALSE
A40: Protect | B40: Data Protection | C40: Is corporate data protected from being copied to 3rd party cloud services? | E40: =IF(D40="Yes", 10, IF(D40="No", -5, IF(D40="Partial", 5))) -> FALSE
A41: Protect | B41: Data Protection | C41: Is corporate data protected from being copied to external media? | E41: =IF(D41="Yes", 10, IF(D41="No", -5, IF(D41="Partial", 5))) -> FALSE
A42: Protect | B42: Data Protection | C42: Is data encrypted at rest? | E42: =IF(D42="Yes", 10, IF(D42="No", -5, IF(D42="Partial", 5))) -> FALSE
A43: Protect | B43: Data Protection | C43: Is sensitivity labelling applied to corporate data? | E43: =IF(D43="Yes", 10, IF(D43="No", -5, IF(D43="Partial", 5))) -> FALSE
A44: Protect | B44: Data Protection | C44: Are audit logs maintained for access to corporate data? | E44: =IF(D44="Yes", 10, IF(D44="No", -5, IF(D44="Partial", 5))) -> FALSE
D45: Total | E45: =SUM(AnsData[Points]) -> 0
D46: Available | E46: 60
D47: Percent | E47: =SUM(E45/E46)*100 -> 0
A49: Category | B49: Section | C49: Question | D49: Answer | E49: Points
A50: Protect | B50: Identity Protection | C50: Is Multi-Factor used to access SAAS Applications (O365, Google, Salesforce) | E50: =IF(D50="Yes", 10, IF(D50="No", -5, IF(D50="Partial", 5))) -> FALSE
A51: Identify | B51: Identity Protection | C51: Are conditional access policies applied to users for accessing cloud services. | E51: =IF(D51="Yes", 10, IF(D51="No", -5, IF(D51="Partial", 5))) -> FALSE
A52: Detect | B52: Identity Protection | C52: Are alerts configured and actively monitored for suspicious activity i.e. failed logon attempts etc | E52: =IF(D52="Yes", 10, IF(D52="No", -5, IF(D52="Partial", 5))) -> FALSE
A53: Detect | B53: Identity Protection | C53: Do you actively monitor the dark web for leaked credentials | E53: =IF(D53="Yes", 10, IF(D53="No", -5, IF(D53="Partial", 5))) -> FALSE
D54: Total | E54: =SUM(AnsIDProt[Points]) -> 0
D55: Available | E55: 40
D56: Percent | E56: =SUM(E54/E55)*100 -> 0
A58: Category | B58: Section | C58: Question | D58: Answer | E58: Points
A59: Recover | B59: BUDR | C59: Are key systems backed up on a suitable schedule | E59: =IF(D59="Yes", 10, IF(D59="No", -5, IF(D59="Partial", 5))) -> FALSE
A60: Recover | B60: BUDR | C60: Are backups (or copies of) stored offsite/cloud? | E60: =IF(D60="Yes", 10, IF(D60="No", -5, IF(D60="Partial", 5))) -> FALSE
A61: Recover | B61: BUDR | C61: Is there a Disaster Recover plan that is reviewed and tested annually? | E61: =IF(D61="Yes", 10, IF(D61="No", -5, IF(D61="Partial", 5))) -> FALSE
D62: Total | E62: =SUM(AnsBUDR[Points]) -> 0
D63: Available | E63: 30
D64: Percent | E64: =SUM(E62/E63)*100 -> 0
A66: Category | B66: Section | C66: Question | D66: Answer | E66: Points
A67: Identify | B67: Network | C67: Is a comprehensive asset list maintained | E67: =IF(D67="Yes", 10, IF(D67="No", -5, IF(D67="Partial", 5))) -> FALSE
A68: Protect | B68: Network | C68: Do you have firewalls at the network gateway (not a basic router firewall) | E68: =IF(D68="Yes", 10, IF(D68="No", -5, IF(D68="Partial", 5))) -> FALSE
A69: Detect | B69: Network | C69: Is there any Web Content control in place on the local/remote networks? | E69: =IF(D69="Yes", 10, IF(D69="No", -5, IF(D69="Partial", 5))) -> FALSE
A70: Identify | B70: Network | C70: Is Wi-Fi password protected, with Guest networks segregated | E70: =IF(D70="Yes", 10, IF(D70="No", -5, IF(D70="Partial", 5))) -> FALSE
A71: Detect | B71: Network | C71: Is regulary vulnerability scanning conducted? | E71: =IF(D71="Yes", 10, IF(D71="No", -5, IF(D71="Partial", 5))) -> FALSE
D72: Total | E72: =SUM(AnsNetwork[Points]) -> 0
D73: Available | E73: 50
D74: Percent | E74: =SUM(E72/E73)*100 -> 0
A76: Category | B76: Section | C76: Question | D76: Answer | E76: Points
A77: Identify | B77: Policy | C77: Is there a Remote Access Policy | E77: =IF(D77="Yes", 10, IF(D77="No", -5, IF(D77="Partial", 5))) -> FALSE
A78: Respond | B78: Policy | C78: Is there currently a data breach response plan formulated | E78: =IF(D78="Yes", 10, IF(D78="No", -5, IF(D78="Partial", 5))) -> FALSE
D79: Total | E79: =SUM(AnsPolicy[Points]) -> 0
D80: Available | E80: 20
D81: Percent | E81: =SUM(E79/E80)*100 -> 0
D85: Users | E85: =SUM(E9) -> 0 | F85: =IF(E85>=81, "1", IF(E85>=61, "2", IF(E85>=41, "3", IF(E85>20, "4", "5")))) -> 5
D86: Device | E86: =SUM(E18) -> 0 | F86: =IF(E86>=81, "1", IF(E86>=61, "2", IF(E86>=41, "3", IF(E86>20, "4", "5")))) -> 5
D87: Endpoint | E87: =SUM(E27) -> 0 | F87: =IF(E87>=81, "1", IF(E87>=61, "2", IF(E87>=41, "3", IF(E87>20, "4", "5")))) -> 5
D88: Email | E88: =SUM(E36) -> 0 | F88: =IF(E88>=81, "1", IF(E88>=61, "2", IF(E88>=41, "3", IF(E88>20, "4", "5")))) -> 5
D89: Data | E89: =SUM(E47) -> 0 | F89: =IF(E89>=81, "1", IF(E89>=61, "2", IF(E89>=41, "3", IF(E89>20, "4", "5")))) -> 5
D90: Identity | E90: =SUM(E56) -> 0 | F90: =IF(E90>=81, "1", IF(E90>=61, "2", IF(E90>=41, "3", IF(E90>20, "4", "5")))) -> 5
D91: BUDR | E91: =SUM(E64) -> 0 | F91: =IF(E91>=81, "1", IF(E91>=61, "2", IF(E91>=41, "3", IF(E91>20, "4", "5")))) -> 5
D92: Network | E92: =SUM(E74) -> 0 | F92: =IF(E92>=81, "1", IF(E92>=61, "2", IF(E92>=41, "3", IF(E92>20, "4", "5")))) -> 5
D93: Policy | E93: =SUM(E81) -> 0 | F93: =IF(E93>=81, "1", IF(E93>=61, "2", IF(E93>=41, "3", IF(E93>20, "4", "5")))) -> 5

Sheet Heatmap
A2: Risk Area | B2: Impact | C2: Probability
A3: Users | C3: =_xlfn.NUMBERVALUE(Answers!F85) -> 5
A4: Device Compliance | C4: =_xlfn.NUMBERVALUE(Answers!F86) -> 5
A5: Endpoint Protection | C5: =_xlfn.NUMBERVALUE(Answers!F87) -> 5
A6: Email Security | C6: =_xlfn.NUMBERVALUE(Answers!F88) -> 5
A7: Data Protection | C7: =_xlfn.NUMBERVALUE(Answers!F89) -> 5
A8: Identity Protection | C8: =_xlfn.NUMBERVALUE(Answers!F90) -> 5
A9: BUDR | C9: =_xlfn.NUMBERVALUE(Answers!F91) -> 5
A10: Network | C10: =_xlfn.NUMBERVALUE(Answers!F92) -> 5
A11: Policy | C11: =_xlfn.NUMBERVALUE(Answers!F93) -> 5
C26: =Answers!F92 -> 5
